BEGIN:VCALENDAR
VERSION:2.0
PRODID:-//wp-events-plugin.com//7.2.3.1//EN
TZID:America/Los_Angeles
X-WR-TIMEZONE:America/Los_Angeles
BEGIN:VEVENT
UID:54@aliantplus.com
DTSTART:20250304T210000Z
DTEND:20250304T213000Z
DTSTAMP:20250208T213041Z
URL:https://aliantplus.com/events/practice-group-meeting-private-client-se
 rvices/
SUMMARY:Practice Group Meeting: Private Client Services
DESCRIPTION:Zoom link
END:VEVENT
END:VCALENDAR