BEGIN:VCALENDAR
VERSION:2.0
PRODID:-//wp-events-plugin.com//7.2.3.1//EN
TZID:America/Los_Angeles
X-WR-TIMEZONE:America/Los_Angeles
BEGIN:VEVENT
UID:40@aliantplus.com
DTSTART:20241113T150000Z
DTEND:20241113T160000Z
DTSTAMP:20240504T013722Z
URL:https://aliantplus.com/events/corporate-practice-group-area-meeting/
SUMMARY:Corporate Practice Group Area Meeting
DESCRIPTION:
CATEGORIES:Practice Area Group Meetings
END:VEVENT
END:VCALENDAR