BEGIN:VCALENDAR
VERSION:2.0
PRODID:-//wp-events-plugin.com//7.2.3.1//EN
TZID:America/Los_Angeles
X-WR-TIMEZONE:America/Los_Angeles
BEGIN:VEVENT
UID:1@aliantplus.com
DTSTART:20240507T150000Z
DTEND:20240507T160000Z
DTSTAMP:20240504T004614Z
URL:https://aliantplus.com/events/private-client-practice-area-group-meeti
 ng/
SUMMARY:Private Client Practice Area Group Meeting
DESCRIPTION:virtual meeting
CATEGORIES:Practice Area Group Meetings
END:VEVENT
BEGIN:VEVENT
UID:3@aliantplus.com
DTSTART:20240508T150000Z
DTEND:20240508T160000Z
DTSTAMP:20240503T212557Z
URL:https://aliantplus.com/events/corporate-practice-area-group-meeting/
SUMMARY:Corporate Practice Area Group Meeting
DESCRIPTION:
CATEGORIES:Practice Area Group Meetings
END:VEVENT
BEGIN:VEVENT
UID:4@aliantplus.com
DTSTART:20240514T150000Z
DTEND:20240514T160000Z
DTSTAMP:20240504T004738Z
URL:https://aliantplus.com/events/real-estate-practice-area-group-meeting/
SUMMARY:Real Estate Practice Area Group Meeting
DESCRIPTION:
CATEGORIES:Practice Area Group Meetings
END:VEVENT
BEGIN:VEVENT
UID:5@aliantplus.com
DTSTART:20240522T133000Z
DTEND:20240522T143000Z
DTSTAMP:20240504T004814Z
URL:https://aliantplus.com/events/labour-and-employment-practice-area-grou
 p-meeting/
SUMMARY:Labour and Employment Practice Area Group Meeting
DESCRIPTION:
CATEGORIES:Practice Area Group Meetings
END:VEVENT
BEGIN:VEVENT
UID:6@aliantplus.com
DTSTART:20240530T150000Z
DTEND:20240530T160000Z
DTSTAMP:20240426T012935Z
URL:https://aliantplus.com/events/connect-and-learn/
SUMMARY:Connect and Learn
DESCRIPTION:
CATEGORIES:Connect &amp; Learn Networking Events
END:VEVENT
BEGIN:VEVENT
UID:7@aliantplus.com
DTSTART:20240604T150000Z
DTEND:20240604T160000Z
DTSTAMP:20240523T014455Z
URL:https://aliantplus.com/events/private-clients-practice-area-group-meet
 ing/
SUMMARY:Private Clients Practice Area Group Meeting
DESCRIPTION:
CATEGORIES:Practice Area Group Meetings
END:VEVENT
BEGIN:VEVENT
UID:8@aliantplus.com
DTSTART:20240605T150000Z
DTEND:20240605T160000Z
DTSTAMP:20240504T014128Z
URL:https://aliantplus.com/events/litigation-practice-area-group-meeting/
SUMMARY:Litigation Practice Area Group Meeting
DESCRIPTION:
CATEGORIES:Practice Area Group Meetings
END:VEVENT
BEGIN:VEVENT
UID:9@aliantplus.com
DTSTART:20240611T150000Z
DTEND:20240611T160000Z
DTSTAMP:20240504T014122Z
URL:https://aliantplus.com/events/real-estate-practice-area-group-meeting-
 2/
SUMMARY:Real Estate Practice Area Group Meeting
DESCRIPTION:
CATEGORIES:Practice Area Group Meetings
END:VEVENT
BEGIN:VEVENT
UID:10@aliantplus.com
DTSTART:20240612T150000Z
DTEND:20240612T160000Z
DTSTAMP:20240504T014117Z
URL:https://aliantplus.com/events/corporate-practice-area-group-meeting-2/
SUMMARY:Corporate Practice Area Group Meeting
DESCRIPTION:
CATEGORIES:Practice Area Group Meetings
END:VEVENT
BEGIN:VEVENT
UID:11@aliantplus.com
DTSTART:20240626T133000Z
DTEND:20240626T143000Z
DTSTAMP:20240504T014112Z
URL:https://aliantplus.com/events/labour-and-employment-practice-area-grou
 p-meeting-2/
SUMMARY:Labour and Employment Practice Area Group Meeting
DESCRIPTION:
CATEGORIES:Practice Area Group Meetings
END:VEVENT
BEGIN:VEVENT
UID:12@aliantplus.com
DTSTART:20240627T150000Z
DTEND:20240627T160000Z
DTSTAMP:20240504T014105Z
URL:https://aliantplus.com/events/connect-and-learn-2/
SUMMARY:Connect and Learn
DESCRIPTION:
CATEGORIES:Connect &amp; Learn Networking Events
END:VEVENT
BEGIN:VEVENT
UID:25@aliantplus.com
DTSTART:20240903T150000Z
DTEND:20240903T160000Z
DTSTAMP:20240504T013850Z
URL:https://aliantplus.com/events/private-clients-practice-area-group-meet
 ing-4/
SUMMARY:Private Clients Practice Area Group Meeting
DESCRIPTION:
CATEGORIES:Practice Area Group Meetings
END:VEVENT
BEGIN:VEVENT
UID:49@aliantplus.com
DTSTART:20240904T000000Z
DTEND:20240904T000000Z
DTSTAMP:20240426T012749Z
URL:https://aliantplus.com/events/fall-confrence-2024-in-vilnius-lithuania
 -2/
SUMMARY:Fall Confrence 2024 In Vilnius\, Lithuania
DESCRIPTION:
CATEGORIES:Conferences
END:VEVENT
BEGIN:VEVENT
UID:50@aliantplus.com
DTSTART:20240906T000000Z
DTEND:20240906T000000Z
DTSTAMP:20240426T012804Z
URL:https://aliantplus.com/events/fall-confrence-2024-in-vilnius-lithuania
 -3/
SUMMARY:Fall Confrence 2024 In Vilnius\, Lithuania
DESCRIPTION:
END:VEVENT
BEGIN:VEVENT
UID:51@aliantplus.com
DTSTART:20240907T000000Z
DTEND:20240907T000000Z
DTSTAMP:20240426T012822Z
URL:https://aliantplus.com/events/fall-confrence-2024-in-vilnius-lithuania
 -4/
SUMMARY:Fall Confrence 2024 In Vilnius\, Lithuania
DESCRIPTION:
END:VEVENT
BEGIN:VEVENT
UID:27@aliantplus.com
DTSTART:20240910T150000Z
DTEND:20240910T160000Z
DTSTAMP:20240504T013845Z
URL:https://aliantplus.com/events/real-estate-practice-area-group-meeting-
 4/
SUMMARY:Real Estate Practice Area Group Meeting
DESCRIPTION:
CATEGORIES:Practice Area Group Meetings
END:VEVENT
BEGIN:VEVENT
UID:28@aliantplus.com
DTSTART:20240911T150000Z
DTEND:20240911T160000Z
DTSTAMP:20240504T013839Z
URL:https://aliantplus.com/events/corporate-practice-area-group-meeting-5/
SUMMARY:Corporate Practice Area Group Meeting
DESCRIPTION:
CATEGORIES:Practice Area Group Meetings
END:VEVENT
BEGIN:VEVENT
UID:29@aliantplus.com
DTSTART:20240925T133000Z
DTEND:20240925T143000Z
DTSTAMP:20240504T013833Z
URL:https://aliantplus.com/events/labour-and-employment/
SUMMARY:Labour and Employment Practice Area Group Meeting
DESCRIPTION:
CATEGORIES:Practice Area Group Meetings
END:VEVENT
BEGIN:VEVENT
UID:30@aliantplus.com
DTSTART:20240926T150000Z
DTEND:20240926T160000Z
DTSTAMP:20240504T013824Z
URL:https://aliantplus.com/events/connect-and-learn-5/
SUMMARY:Connect and Learn
DESCRIPTION:
CATEGORIES:Connect &amp; Learn Networking Events
END:VEVENT
BEGIN:VEVENT
UID:31@aliantplus.com
DTSTART:20241001T150000Z
DTEND:20241001T160000Z
DTSTAMP:20240504T013814Z
URL:https://aliantplus.com/events/private-clients-practice-area-group-meet
 ing-5/
SUMMARY:Private Clients Practice Area Group Meeting
DESCRIPTION:
CATEGORIES:Practice Area Group Meetings
END:VEVENT
BEGIN:VEVENT
UID:32@aliantplus.com
DTSTART:20241002T150000Z
DTEND:20241002T160000Z
DTSTAMP:20240425T182722Z
URL:https://aliantplus.com/events/litigation-practice-area-group-meeting-4
 /
SUMMARY:Litigation Practice Area Group Meeting
DESCRIPTION:
CATEGORIES:Practice Area Group Meetings
END:VEVENT
BEGIN:VEVENT
UID:33@aliantplus.com
DTSTART:20241007T230000Z
DTEND:20241007T230000Z
DTSTAMP:20240504T013806Z
URL:https://aliantplus.com/events/real-estate-practice-area-group-meeting-
 5/
SUMMARY:Real Estate Practice Area Group Meeting
DESCRIPTION:
CATEGORIES:Practice Area Group Meetings
END:VEVENT
BEGIN:VEVENT
UID:34@aliantplus.com
DTSTART:20241009T150000Z
DTEND:20241009T160000Z
DTSTAMP:20240504T013758Z
URL:https://aliantplus.com/events/corporate-practice-area-group-meeting-6/
SUMMARY:Corporate Practice Area Group Meeting
DESCRIPTION:
CATEGORIES:Practice Area Group Meetings
END:VEVENT
BEGIN:VEVENT
UID:35@aliantplus.com
DTSTART:20241023T133000Z
DTEND:20241023T143000Z
DTSTAMP:20240504T013753Z
URL:https://aliantplus.com/events/labour-and-employment-practice-area-grou
 p-meeting-5/
SUMMARY:Labour and Employment Practice Area Group Meeting
DESCRIPTION:
CATEGORIES:Practice Area Group Meetings
END:VEVENT
BEGIN:VEVENT
UID:36@aliantplus.com
DTSTART:20241031T150000Z
DTEND:20241031T160000Z
DTSTAMP:20240504T013746Z
URL:https://aliantplus.com/events/connect-and-learn-6/
SUMMARY:Connect and Learn
DESCRIPTION:
CATEGORIES:Connect &amp; Learn Networking Events
END:VEVENT
BEGIN:VEVENT
UID:37@aliantplus.com
DTSTART:20241105T150000Z
DTEND:20241105T160000Z
DTSTAMP:20240504T013739Z
URL:https://aliantplus.com/events/private-clients-practice-area-group-meet
 ing-6/
SUMMARY:Private Clients Practice Area Group Meeting
DESCRIPTION:
CATEGORIES:Practice Area Group Meetings
END:VEVENT
BEGIN:VEVENT
UID:38@aliantplus.com
DTSTART:20241106T150000Z
DTEND:20241106T160000Z
DTSTAMP:20240504T013734Z
URL:https://aliantplus.com/events/litigation-practice-area-group-meeting-5
 /
SUMMARY:Litigation Practice Area Group Meeting
DESCRIPTION:
CATEGORIES:Practice Area Group Meetings
END:VEVENT
BEGIN:VEVENT
UID:39@aliantplus.com
DTSTART:20241112T150000Z
DTEND:20241112T160000Z
DTSTAMP:20240504T013728Z
URL:https://aliantplus.com/events/real-estate-practice-area-group-meeting-
 6/
SUMMARY:Real Estate Practice Area Group Meeting
DESCRIPTION:
CATEGORIES:Practice Area Group Meetings
END:VEVENT
BEGIN:VEVENT
UID:40@aliantplus.com
DTSTART:20241113T150000Z
DTEND:20241113T160000Z
DTSTAMP:20240504T013722Z
URL:https://aliantplus.com/events/corporate-practice-group-area-meeting/
SUMMARY:Corporate Practice Group Area Meeting
DESCRIPTION:
CATEGORIES:Practice Area Group Meetings
END:VEVENT
BEGIN:VEVENT
UID:41@aliantplus.com
DTSTART:20241127T133000Z
DTEND:20241127T143000Z
DTSTAMP:20240504T013716Z
URL:https://aliantplus.com/events/labour-and-employment-practice-area-grou
 p-meeting-6/
SUMMARY:Labour and Employment Practice Area Group Meeting
DESCRIPTION:
CATEGORIES:Practice Area Group Meetings
END:VEVENT
BEGIN:VEVENT
UID:42@aliantplus.com
DTSTART:20241128T150000Z
DTEND:20241128T160000Z
DTSTAMP:20240504T013710Z
URL:https://aliantplus.com/events/connect-and-learn-7/
SUMMARY:Connect and Learn
DESCRIPTION:
CATEGORIES:Connect &amp; Learn Networking Events
END:VEVENT
BEGIN:VEVENT
UID:43@aliantplus.com
DTSTART:20241203T150000Z
DTEND:20241203T160000Z
DTSTAMP:20240504T013704Z
URL:https://aliantplus.com/events/private-clients-practice-area-group-meet
 ing-7/
SUMMARY:Private Clients Practice Area Group Meeting
DESCRIPTION:
CATEGORIES:Practice Area Group Meetings
END:VEVENT
BEGIN:VEVENT
UID:44@aliantplus.com
DTSTART:20241204T150000Z
DTEND:20241204T160000Z
DTSTAMP:20240504T013650Z
URL:https://aliantplus.com/events/litigation-practice-area-group-meeting-6
 /
SUMMARY:Litigation Practice Area Group Meeting
DESCRIPTION:
CATEGORIES:Practice Area Group Meetings
END:VEVENT
BEGIN:VEVENT
UID:45@aliantplus.com
DTSTART:20241210T150000Z
DTEND:20241210T160000Z
DTSTAMP:20240504T013639Z
URL:https://aliantplus.com/events/real-estate-practice-area-group-meeting-
 7/
SUMMARY:Real Estate Practice Area Group Meeting
DESCRIPTION:
CATEGORIES:Practice Area Group Meetings
END:VEVENT
BEGIN:VEVENT
UID:46@aliantplus.com
DTSTART:20241211T150000Z
DTEND:20241211T160000Z
DTSTAMP:20240504T013633Z
URL:https://aliantplus.com/events/corporate-practice-area-group-meeting-7/
SUMMARY:Corporate Practice Area Group Meeting
DESCRIPTION:
CATEGORIES:Practice Area Group Meetings
END:VEVENT
BEGIN:VEVENT
UID:47@aliantplus.com
DTSTART:20241225T133000Z
DTEND:20241225T143000Z
DTSTAMP:20240504T013623Z
URL:https://aliantplus.com/events/labour-and-employment-practice-area-grou
 p-meeting-7/
SUMMARY:Labour and Employment Practice Area Group Meeting
DESCRIPTION:
CATEGORIES:Practice Area Group Meetings
END:VEVENT
BEGIN:VEVENT
UID:48@aliantplus.com
DTSTART:20241226T150000Z
DTEND:20241226T160000Z
DTSTAMP:20240504T013656Z
URL:https://aliantplus.com/events/connect-and-learn-8/
SUMMARY:Connect and Learn
DESCRIPTION:
CATEGORIES:Connect &amp; Learn Networking Events
END:VEVENT
BEGIN:VEVENT
UID:52@aliantplus.com
DTSTART:20250212T210000Z
DTEND:20250212T220000Z
DTSTAMP:20250208T212451Z
URL:https://aliantplus.com/events/corporate-practice-area-group-meeting-3/
SUMMARY:Corporate Practice Area Group Meeting
DESCRIPTION:Zoom Link\n\n&nbsp\;
END:VEVENT
BEGIN:VEVENT
UID:53@aliantplus.com
DTSTART:20250227T210000Z
DTEND:20250227T220000Z
DTSTAMP:20250208T212723Z
URL:https://aliantplus.com/events/connect-learn-virtual-networking-event/
SUMMARY:Connect & Learn / Virtual Networking Event
DESCRIPTION:Zoom link
END:VEVENT
BEGIN:VEVENT
UID:54@aliantplus.com
DTSTART:20250304T210000Z
DTEND:20250304T213000Z
DTSTAMP:20250208T213041Z
URL:https://aliantplus.com/events/practice-group-meeting-private-client-se
 rvices/
SUMMARY:Practice Group Meeting: Private Client Services
DESCRIPTION:Zoom link
END:VEVENT
BEGIN:VEVENT
UID:55@aliantplus.com
DTSTART:20250312T210000Z
DTEND:20250312T220000Z
DTSTAMP:20250208T213331Z
URL:https://aliantplus.com/events/corporate-practice-area-group-meeting-4/
SUMMARY:Corporate Practice Area Group Meeting
DESCRIPTION:Zoom link
END:VEVENT
BEGIN:VEVENT
UID:56@aliantplus.com
DTSTART:20250327T210000Z
DTEND:20250327T220000Z
DTSTAMP:20250208T213608Z
URL:https://aliantplus.com/events/connect-learn-virtual-networking-event-2
 /
SUMMARY:Connect & Learn / Virtual Networking Event
DESCRIPTION:Zoom Link
END:VEVENT
BEGIN:VEVENT
UID:57@aliantplus.com
DTSTART:20250401T200000Z
DTEND:20250401T203000Z
DTSTAMP:20250208T213851Z
URL:https://aliantplus.com/events/practice-group-meeting-private-client-se
 rvices-2/
SUMMARY:Practice Group Meeting: Private Client Services
DESCRIPTION:Zoom Link
END:VEVENT
BEGIN:VEVENT
UID:58@aliantplus.com
DTSTART:20250424T200000Z
DTEND:20250424T210000Z
DTSTAMP:20250208T214357Z
URL:https://aliantplus.com/events/connect-learn-virtual-networking-event-3
 /
SUMMARY:Connect & Learn / Virtual Networking Event
DESCRIPTION:Zoom Link
END:VEVENT
BEGIN:VEVENT
UID:59@aliantplus.com
DTSTART:20250506T200000Z
DTEND:20250506T203000Z
DTSTAMP:20250208T214501Z
URL:https://aliantplus.com/events/practice-group-meeting-private-client-se
 rvices-3/
SUMMARY:Practice Group Meeting: Private Client Services
DESCRIPTION:Zoom Link
END:VEVENT
BEGIN:VEVENT
UID:60@aliantplus.com
DTSTART:20250514T200000Z
DTEND:20250514T210000Z
DTSTAMP:20250208T214624Z
URL:https://aliantplus.com/events/corporate-practice-area-group-meeting-8/
SUMMARY:Corporate Practice Area Group Meeting
DESCRIPTION:Zoom Link
END:VEVENT
BEGIN:VEVENT
UID:61@aliantplus.com
DTSTART:20250529T200000Z
DTEND:20250529T210000Z
DTSTAMP:20250208T214752Z
URL:https://aliantplus.com/events/connect-learn-virtual-networking-event-4
 /
SUMMARY:Connect & Learn / Virtual Networking Event
DESCRIPTION:Zoom Link
END:VEVENT
BEGIN:VEVENT
UID:62@aliantplus.com
DTSTART:20250603T200000Z
DTEND:20250603T203000Z
DTSTAMP:20250208T214859Z
URL:https://aliantplus.com/events/practice-group-meeting-private-client-se
 rvices-4/
SUMMARY:Practice Group Meeting: Private Client Services
DESCRIPTION:Zoom Link
END:VEVENT
BEGIN:VEVENT
UID:63@aliantplus.com
DTSTART:20250611T200000Z
DTEND:20250611T210000Z
DTSTAMP:20250208T221453Z
URL:https://aliantplus.com/events/corporate-practice-area-group-meeting-9/
SUMMARY:Corporate Practice Area Group Meeting
DESCRIPTION:Zoom Link
END:VEVENT
BEGIN:VEVENT
UID:64@aliantplus.com
DTSTART:20250626T200000Z
DTEND:20250626T210000Z
DTSTAMP:20250208T221706Z
URL:https://aliantplus.com/events/connect-learn-virtual-networking-event-5
 /
SUMMARY:Connect & Learn / Virtual Networking Event
DESCRIPTION:Zoom Link
END:VEVENT
END:VCALENDAR